BEGIN:VCALENDAR
VERSION:2.0
PRODID:-//jEvents 2.0 for Joomla//EN
CALSCALE:GREGORIAN
METHOD:PUBLISH
BEGIN:VEVENT
UID:85499b3dc0334381f75c12e03f452555
CATEGORIES:Abwesenheit Verena
CREATED:20190521T121222
SUMMARY:Teilbesetzung EJA
URL;VALUE=URI:https://eja-aalen.de/medien/kalender/icalrepeat.detail/2019/09/02/417/-/tei
 lbesetzung-eja?tmpl=component
DESCRIPTION: Dieser Event wurde importiert von: https://eja-aalen.de/medien/kalender/ic
 alrepeat.detail/2019/09/02/417/-/teilbesetzung-eja?tmpl=component
X-ALT-DESC;FMTTYPE=text/html: <a href="https://eja-aalen.de/medien/kalender/icalrepeat.detail/2019/09/02
 /417/-/teilbesetzung-eja?tmpl=component">Dieser Event wurde importiert von:
  https://eja-aalen.de/medien/kalender/icalrepeat.detail/2019/09/02/417/-/te
 ilbesetzung-eja?tmpl=component</a>DTSTAMP:20260420T115010
DTSTART;VALUE=DATE:20190902
DTEND;VALUE=DATE:20190915
SEQUENCE:0
TRANSP:OPAQUE
END:VEVENT
END:VCALENDAR