BEGIN:VCALENDAR
VERSION:2.0
PRODID:-//jEvents 2.0 for Joomla//EN
CALSCALE:GREGORIAN
METHOD:PUBLISH
BEGIN:VEVENT
UID:0b371055e6c84b528a0995b23184f81d
CATEGORIES:Abwesenheit Verena
CREATED:20190521T121736
SUMMARY:Aufbauausbildung Zentrum Diakonat LB
URL;VALUE=URI:https://eja-aalen.de/medien/kalender/icalrepeat.detail/2019/11/11/422/-/auf
 bauausbildung-zentrum-diakonat-lb?tmpl=component
DESCRIPTION: <a href="https://eja-aalen.de/medien/kalender/icalrepeat.detail/2019/11/11
 /422/-/aufbauausbildung-zentrum-diakonat-lb?tmpl=component">Dieser Event wu
 rde importiert von: https://eja-aalen.de/medien/kalender/icalrepeat.detail/
 2019/11/11/422/-/aufbauausbildung-zentrum-diakonat-lb?tmpl=component</a>DTSTAMP:20260423T232154
DTSTART:20191111T080000
DTEND:20191115T170000
SEQUENCE:0
TRANSP:OPAQUE
END:VEVENT
END:VCALENDAR