BEGIN:VCALENDAR
VERSION:2.0
PRODID:-//jEvents 2.0 for Joomla//EN
CALSCALE:GREGORIAN
METHOD:PUBLISH
BEGIN:VEVENT
UID:98468a62755d43263bea0b2199ffab66
CATEGORIES:Gremien
CREATED:20190717T083940
SUMMARY:BAK Wochenende 
LOCATION:ev. Jugendheim im Rottal
URL;VALUE=URI:https://eja-aalen.de/medien/kalender/icalrepeat.detail/2020/03/27/435/-/bak
 -wochenende?tmpl=component
DESCRIPTION:BAK Wochenende im Rottal - Beginn Freitagabend Anreise ab 18:00 Uhr\n- geme
 insame Zeit\n- Kennen lernen des BAK\n- Klausur\n- Spannung, Spiel und Verw
 öhnprogramm\n- BAK Sitzung, konzeptionelle Planung\n Ende: Sonntagmittag, n
 ach gemeinsamem Mittagessen\n Dieser Event wurde importiert von: https://ej
 a-aalen.de/medien/kalender/icalrepeat.detail/2020/03/27/435/-/bak-wochenend
 e?tmpl=component (https://eja-aalen.de/medien/kalender/icalrepeat.detail/20
 20/03/27/435/-/bak-wochenende?tmpl=component)
X-ALT-DESC;FMTTYPE=text/html:<p>BAK Wochenende im Rottal - Beginn Freitagabend Anreise ab 18:00 Uhr</p><
 p>- gemeinsame Zeit</p><p>- Kennen lernen des BAK</p><p>- Klausur</p><p>- S
 pannung, Spiel und Verw&ouml;hnprogramm</p><p>- BAK Sitzung, konzeptionelle
  Planung</p><p>&nbsp;Ende: Sonntagmittag, nach gemeinsamem Mittagessen</p> 
 <a href="https://eja-aalen.de/medien/kalender/icalrepeat.detail/2020/03/27/
 435/-/bak-wochenende?tmpl=component">Dieser Event wurde importiert von: htt
 ps://eja-aalen.de/medien/kalender/icalrepeat.detail/2020/03/27/435/-/bak-wo
 chenende?tmpl=component</a>CONTACT:Diese E-Mail-Adresse ist vor Spambots geschützt! Zur Anzeige muss JavaScript eingeschaltet sein!
				document.getElementById('cloaka5442f982a62e694d9908c7d4492f68a').innerHTML = '';
				var prefix = '&#109;a' + 'i&#108;' + '&#116;o';
				var path = 'hr' + 'ef' + '=';
				var addya5442f982a62e694d9908c7d4492f68a = '&#101;j&#97;' + '&#64;';
				addya5442f982a62e694d9908c7d4492f68a = addya5442f982a62e694d9908c7d4492f68a + '&#101;j&#97;-&#97;&#97;l&#101;n' + '&#46;' + 'd&#101;';
				var addy_texta5442f982a62e694d9908c7d4492f68a = '&#101;j&#97;' + '&#64;' + '&#101;j&#97;-&#97;&#97;l&#101;n' + '&#46;' + 'd&#101;';document.getElementById('cloaka5442f982a62e694d9908c7d4492f68a').innerHTML += '<a ' + path + '\'' + prefix + ':' + addya5442f982a62e694d9908c7d4492f68a + '\'>'+addy_texta5442f982a62e694d9908c7d4492f68a+'';
		
DTSTAMP:20260423T104242
DTSTART:20200327T180000
DTEND;VALUE=DATE:20200330
SEQUENCE:0
TRANSP:OPAQUE
END:VEVENT
END:VCALENDAR