BEGIN:VCALENDAR
VERSION:2.0
PRODID:-//jEvents 2.0 for Joomla//EN
CALSCALE:GREGORIAN
METHOD:PUBLISH
BEGIN:VEVENT
UID:ce5bdbd057da50c6a132ee0a90059e4f
CATEGORIES:Freizeiten
CREATED:20190724T133750
SUMMARY:EJA Winterwochenende (Pitztal)
URL;VALUE=URI:https://eja-aalen.de/medien/kalender/icalrepeat.detail/2020/01/03/440/-/eja
 -winterwochenende-pitztal?tmpl=component
DESCRIPTION: <a href="https://eja-aalen.de/medien/kalender/icalrepeat.detail/2020/01/03
 /440/-/eja-winterwochenende-pitztal?tmpl=component">Dieser Event wurde impo
 rtiert von: https://eja-aalen.de/medien/kalender/icalrepeat.detail/2020/01/
 03/440/-/eja-winterwochenende-pitztal?tmpl=component</a>DTSTAMP:20260423T144731
DTSTART;VALUE=DATE:20200103
DTEND;VALUE=DATE:20200107
SEQUENCE:0
TRANSP:OPAQUE
END:VEVENT
END:VCALENDAR