BEGIN:VCALENDAR
VERSION:2.0
PRODID:-//jEvents 2.0 for Joomla//EN
CALSCALE:GREGORIAN
METHOD:PUBLISH
BEGIN:VEVENT
UID:99c30cabbca6dd383927e01158498991
CATEGORIES:Gremien
CREATED:20190808T075427
SUMMARY:Dienstbesprechung eja
LOCATION:Büro eja
URL;VALUE=URI:https://eja-aalen.de/medien/kalender/icalrepeat.detail/2019/08/22/451/-/die
 nstbesprechung-eja?tmpl=component
DESCRIPTION: Dieser Event wurde importiert von: https://eja-aalen.de/medien/kalender/ic
 alrepeat.detail/2019/08/22/451/-/dienstbesprechung-eja?tmpl=component
X-ALT-DESC;FMTTYPE=text/html: <a href="https://eja-aalen.de/medien/kalender/icalrepeat.detail/2019/08/22
 /451/-/dienstbesprechung-eja?tmpl=component">Dieser Event wurde importiert 
 von: https://eja-aalen.de/medien/kalender/icalrepeat.detail/2019/08/22/451/
 -/dienstbesprechung-eja?tmpl=component</a>DTSTAMP:20260426T041134
DTSTART:20190822T113000
DTEND:20190822T123000
SEQUENCE:0
TRANSP:OPAQUE
END:VEVENT
END:VCALENDAR