BEGIN:VCALENDAR
VERSION:2.0
PRODID:-//jEvents 2.0 for Joomla//EN
CALSCALE:GREGORIAN
METHOD:PUBLISH
BEGIN:VEVENT
UID:b9e294950782b69e41d7d4101403eed0
CATEGORIES:Abwesenheit Verena
CREATED:19700101T000000
SUMMARY:Teilbesetzung EJA
URL;VALUE=URI:https://eja-aalen.de/medien/kalender/icalrepeat.detail/2019/11/04/454/-/tei
 lbesetzung-eja?tmpl=component
DESCRIPTION: Dieser Event wurde importiert von: https://eja-aalen.de/medien/kalender/ic
 alrepeat.detail/2019/11/04/454/-/teilbesetzung-eja?tmpl=component
X-ALT-DESC;FMTTYPE=text/html: <a href="https://eja-aalen.de/medien/kalender/icalrepeat.detail/2019/11/04
 /454/-/teilbesetzung-eja?tmpl=component">Dieser Event wurde importiert von:
  https://eja-aalen.de/medien/kalender/icalrepeat.detail/2019/11/04/454/-/te
 ilbesetzung-eja?tmpl=component</a>DTSTAMP:20260423T120547
DTSTART;VALUE=DATE:20191104
DTEND;VALUE=DATE:20191105
SEQUENCE:0
RRULE:FREQ=WEEKLY;UNTIL=20191107T000000Z;INTERVAL=1;BYDAY=MO,TU,TH,FR
TRANSP:OPAQUE
END:VEVENT
END:VCALENDAR