BEGIN:VCALENDAR
VERSION:2.0
PRODID:-//jEvents 2.0 for Joomla//EN
CALSCALE:GREGORIAN
METHOD:PUBLISH
BEGIN:VEVENT
UID:03e773ea3422d1af5e3eb8ae1b071571
CATEGORIES:Abwesenheit Elke
CREATED:20190822T144335
SUMMARY:Teilbesetzung EJA
URL;VALUE=URI:https://eja-aalen.de/medien/kalender/icalrepeat.detail/2019/08/26/464/-/tei
 lbesetzung-eja?tmpl=component
DESCRIPTION: Dieser Event wurde importiert von: https://eja-aalen.de/medien/kalender/ic
 alrepeat.detail/2019/08/26/464/-/teilbesetzung-eja?tmpl=component
X-ALT-DESC;FMTTYPE=text/html: <a href="https://eja-aalen.de/medien/kalender/icalrepeat.detail/2019/08/26
 /464/-/teilbesetzung-eja?tmpl=component">Dieser Event wurde importiert von:
  https://eja-aalen.de/medien/kalender/icalrepeat.detail/2019/08/26/464/-/te
 ilbesetzung-eja?tmpl=component</a>DTSTAMP:20260419T231843
DTSTART;VALUE=DATE:20190826
DTEND;VALUE=DATE:20190827
SEQUENCE:0
TRANSP:OPAQUE
END:VEVENT
END:VCALENDAR