BEGIN:VCALENDAR
VERSION:2.0
PRODID:-//jEvents 2.0 for Joomla//EN
CALSCALE:GREGORIAN
METHOD:PUBLISH
BEGIN:VEVENT
UID:ca1b8b1dc7ab0a06cd901b60e8072c98
CATEGORIES:Abwesenheit Verena
CREATED:20190826T101707
SUMMARY:Fortbildungsbesuch
URL;VALUE=URI:https://eja-aalen.de/medien/kalender/icalrepeat.detail/2019/09/15/469/-/for
 tbildungsbesuch?tmpl=component
DESCRIPTION: Dieser Event wurde importiert von: https://eja-aalen.de/medien/kalender/ic
 alrepeat.detail/2019/09/15/469/-/fortbildungsbesuch?tmpl=component
X-ALT-DESC;FMTTYPE=text/html: <a href="https://eja-aalen.de/medien/kalender/icalrepeat.detail/2019/09/15
 /469/-/fortbildungsbesuch?tmpl=component">Dieser Event wurde importiert von
 : https://eja-aalen.de/medien/kalender/icalrepeat.detail/2019/09/15/469/-/f
 ortbildungsbesuch?tmpl=component</a>DTSTAMP:20260421T020807
DTSTART;VALUE=DATE:20190915
DTEND;VALUE=DATE:20190921
SEQUENCE:0
TRANSP:OPAQUE
END:VEVENT
END:VCALENDAR