BEGIN:VCALENDAR
VERSION:2.0
PRODID:-//jEvents 2.0 for Joomla//EN
CALSCALE:GREGORIAN
METHOD:PUBLISH
BEGIN:VEVENT
UID:c72e77f3f35c90bf70b0ef16eef8883a
CATEGORIES:Sonstiges
CREATED:20190826T102019
SUMMARY:EJA nicht besetzt
URL;VALUE=URI:https://eja-aalen.de/medien/kalender/icalrepeat.detail/2019/10/04/471/-/eja
 -nicht-besetzt?tmpl=component
DESCRIPTION: Dieser Event wurde importiert von: https://eja-aalen.de/medien/kalender/ic
 alrepeat.detail/2019/10/04/471/-/eja-nicht-besetzt?tmpl=component
X-ALT-DESC;FMTTYPE=text/html: <a href="https://eja-aalen.de/medien/kalender/icalrepeat.detail/2019/10/04
 /471/-/eja-nicht-besetzt?tmpl=component">Dieser Event wurde importiert von:
  https://eja-aalen.de/medien/kalender/icalrepeat.detail/2019/10/04/471/-/ej
 a-nicht-besetzt?tmpl=component</a>DTSTAMP:20260424T081620
DTSTART;VALUE=DATE:20191004
DTEND;VALUE=DATE:20191005
SEQUENCE:0
TRANSP:OPAQUE
END:VEVENT
END:VCALENDAR