BEGIN:VCALENDAR
VERSION:2.0
PRODID:-//jEvents 2.0 for Joomla//EN
CALSCALE:GREGORIAN
METHOD:PUBLISH
BEGIN:VEVENT
UID:690be96010ca671e057f6e692845b1c7
CATEGORIES:Jugendgottesdienste
CREATED:20190919T150103
SUMMARY:Lifeline-Jugendgottesdienst ev. Gemeindezentrum Abtsgmünd
URL;VALUE=URI:https://eja-aalen.de/medien/kalender/icalrepeat.detail/2019/12/21/476/-/lif
 eline-jugendgottesdienst-ev-gemeindezentrum-abtsgmuend?tmpl=component
DESCRIPTION: <a href="https://eja-aalen.de/medien/kalender/icalrepeat.detail/2019/12/21
 /476/-/lifeline-jugendgottesdienst-ev-gemeindezentrum-abtsgmuend?tmpl=compo
 nent">Dieser Event wurde importiert von: https://eja-aalen.de/medien/kalend
 er/icalrepeat.detail/2019/12/21/476/-/lifeline-jugendgottesdienst-ev-gemein
 dezentrum-abtsgmuend?tmpl=component</a>DTSTAMP:20260424T172102
DTSTART:20191221T190000
SEQUENCE:0
TRANSP:OPAQUE
END:VEVENT
END:VCALENDAR