BEGIN:VCALENDAR
VERSION:2.0
PRODID:-//jEvents 2.0 for Joomla//EN
CALSCALE:GREGORIAN
METHOD:PUBLISH
BEGIN:VEVENT
UID:14589591c48ea4d3531f0a7476136f20
CATEGORIES:Jugendgottesdienste
CREATED:20191015T115419
SUMMARY:ZAGG-Jugendgottesdienst ev. Gemeindehaus Aalen
URL;VALUE=URI:https://eja-aalen.de/medien/kalender/icalrepeat.detail/2020/02/16/482/-/zag
 g-jugendgottesdienst-ev-gemeindehaus-aalen?tmpl=component
DESCRIPTION: Dieser Event wurde importiert von: https://eja-aalen.de/medien/kalender/ic
 alrepeat.detail/2020/02/16/482/-/zagg-jugendgottesdienst-ev-gemeindehaus-aa
 len?tmpl=component
X-ALT-DESC;FMTTYPE=text/html: <a href="https://eja-aalen.de/medien/kalender/icalrepeat.detail/2020/02/16
 /482/-/zagg-jugendgottesdienst-ev-gemeindehaus-aalen?tmpl=component">Dieser
  Event wurde importiert von: https://eja-aalen.de/medien/kalender/icalrepea
 t.detail/2020/02/16/482/-/zagg-jugendgottesdienst-ev-gemeindehaus-aalen?tmp
 l=component</a>DTSTAMP:20260423T191604
DTSTART:20200216T180000
SEQUENCE:0
TRANSP:OPAQUE
END:VEVENT
END:VCALENDAR