BEGIN:VCALENDAR
VERSION:2.0
PRODID:-//jEvents 2.0 for Joomla//EN
CALSCALE:GREGORIAN
METHOD:PUBLISH
BEGIN:VEVENT
UID:01ceb96d13daeda617008beb9f2f954b
CATEGORIES:Abwesenheit Verena
CREATED:20191021T083851
SUMMARY:Teilbesetzung eja
URL;VALUE=URI:https://eja-aalen.de/medien/kalender/icalrepeat.detail/2019/11/18/493/-/tei
 lbesetzung-eja?tmpl=component
DESCRIPTION: Dieser Event wurde importiert von: https://eja-aalen.de/medien/kalender/ic
 alrepeat.detail/2019/11/18/493/-/teilbesetzung-eja?tmpl=component
X-ALT-DESC;FMTTYPE=text/html: <a href="https://eja-aalen.de/medien/kalender/icalrepeat.detail/2019/11/18
 /493/-/teilbesetzung-eja?tmpl=component">Dieser Event wurde importiert von:
  https://eja-aalen.de/medien/kalender/icalrepeat.detail/2019/11/18/493/-/te
 ilbesetzung-eja?tmpl=component</a>DTSTAMP:20260423T104139
DTSTART;VALUE=DATE:20191118
DTEND;VALUE=DATE:20191121
SEQUENCE:0
TRANSP:OPAQUE
END:VEVENT
END:VCALENDAR