BEGIN:VCALENDAR
VERSION:2.0
PRODID:-//jEvents 2.0 for Joomla//EN
CALSCALE:GREGORIAN
METHOD:PUBLISH
BEGIN:VEVENT
UID:301ff96eec7b101f58d14edf3ce69472
CATEGORIES:Gremien
CREATED:20191021T084005
SUMMARY:Regionentreffen der Jugendreferenten
LOCATION:Jugendwerk Schwäbisch Gmünd 
URL;VALUE=URI:https://eja-aalen.de/medien/kalender/icalrepeat.detail/2019/11/27/494/-/reg
 ionentreffen-der-jugendreferenten?tmpl=component
DESCRIPTION: <a href="https://eja-aalen.de/medien/kalender/icalrepeat.detail/2019/11/27
 /494/-/regionentreffen-der-jugendreferenten?tmpl=component">Dieser Event wu
 rde importiert von: https://eja-aalen.de/medien/kalender/icalrepeat.detail/
 2019/11/27/494/-/regionentreffen-der-jugendreferenten?tmpl=component</a>DTSTAMP:20260424T082940
DTSTART:20191127T080000
DTEND:20191127T120000
SEQUENCE:0
TRANSP:OPAQUE
END:VEVENT
END:VCALENDAR