BEGIN:VCALENDAR
VERSION:2.0
PRODID:-//jEvents 2.0 for Joomla//EN
CALSCALE:GREGORIAN
METHOD:PUBLISH
BEGIN:VEVENT
UID:265b5764e205a17b144d27242bcc5184
CATEGORIES:Freizeiten
CREATED:20191021T084411
SUMMARY:Freizeitleitungsdankeschön 2019
URL;VALUE=URI:https://eja-aalen.de/medien/kalender/icalrepeat.detail/2019/12/07/496/-/fre
 izeitleitungsdankeschoen-2019?tmpl=component
DESCRIPTION:<p>Dankesch&ouml;n-Veranstaltung f&uuml;r unsere Freizeitleitungen 2019</p>
 <p>&Uuml;berraschungsprogramm inkl. gem. Essen</p> <a href="https://eja-aal
 en.de/medien/kalender/icalrepeat.detail/2019/12/07/496/-/freizeitleitungsda
 nkeschoen-2019?tmpl=component">Dieser Event wurde importiert von: https://e
 ja-aalen.de/medien/kalender/icalrepeat.detail/2019/12/07/496/-/freizeitleit
 ungsdankeschoen-2019?tmpl=component</a>DTSTAMP:20260424T075748
DTSTART:20191207T170000
SEQUENCE:0
TRANSP:OPAQUE
END:VEVENT
END:VCALENDAR