BEGIN:VCALENDAR
VERSION:2.0
PRODID:-//jEvents 2.0 for Joomla//EN
CALSCALE:GREGORIAN
METHOD:PUBLISH
BEGIN:VEVENT
UID:4fb2b764819d65db1f53897a2fcd3da4
CATEGORIES:Abwesenheit Elke
CREATED:20191212T100804
SUMMARY:Teilbesetzung EJA
URL;VALUE=URI:https://eja-aalen.de/medien/kalender/icalrepeat.detail/2020/01/02/531/-/tei
 lbesetzung-eja?tmpl=component
DESCRIPTION: Dieser Event wurde importiert von: https://eja-aalen.de/medien/kalender/ic
 alrepeat.detail/2020/01/02/531/-/teilbesetzung-eja?tmpl=component
X-ALT-DESC;FMTTYPE=text/html: <a href="https://eja-aalen.de/medien/kalender/icalrepeat.detail/2020/01/02
 /531/-/teilbesetzung-eja?tmpl=component">Dieser Event wurde importiert von:
  https://eja-aalen.de/medien/kalender/icalrepeat.detail/2020/01/02/531/-/te
 ilbesetzung-eja?tmpl=component</a>DTSTAMP:20260423T175442
DTSTART;VALUE=DATE:20200102
DTEND;VALUE=DATE:20200103
SEQUENCE:0
TRANSP:OPAQUE
END:VEVENT
END:VCALENDAR