BEGIN:VCALENDAR
VERSION:2.0
PRODID:-//jEvents 2.0 for Joomla//EN
CALSCALE:GREGORIAN
METHOD:PUBLISH
BEGIN:VEVENT
UID:4c2291ee3dd940b2bcedcf85f7f3818e
CATEGORIES:Abwesenheit Elke
CREATED:19700101T000000
SUMMARY:Teilbesetzung EJA
URL;VALUE=URI:https://eja-aalen.de/medien/kalender/icalrepeat.detail/2020/01/13/532/-/tei
 lbesetzung-eja?tmpl=component
DESCRIPTION: Dieser Event wurde importiert von: https://eja-aalen.de/medien/kalender/ic
 alrepeat.detail/2020/01/13/532/-/teilbesetzung-eja?tmpl=component
X-ALT-DESC;FMTTYPE=text/html: <a href="https://eja-aalen.de/medien/kalender/icalrepeat.detail/2020/01/13
 /532/-/teilbesetzung-eja?tmpl=component">Dieser Event wurde importiert von:
  https://eja-aalen.de/medien/kalender/icalrepeat.detail/2020/01/13/532/-/te
 ilbesetzung-eja?tmpl=component</a>DTSTAMP:20260421T063211
DTSTART;VALUE=DATE:20200113
DTEND;VALUE=DATE:20200114
SEQUENCE:0
RRULE:FREQ=WEEKLY;UNTIL=20200203T000000Z;INTERVAL=1;BYDAY=MO
EXDATE:20200120T000000,20200127T000000
TRANSP:OPAQUE
END:VEVENT
END:VCALENDAR