BEGIN:VCALENDAR
VERSION:2.0
PRODID:-//jEvents 2.0 for Joomla//EN
CALSCALE:GREGORIAN
METHOD:PUBLISH
BEGIN:VEVENT
UID:cd932d287e6caf951d3f06051c11af54
CATEGORIES:Abwesenheit Verena
CREATED:20200109T083432
SUMMARY:Teilbesetzung EJA
URL;VALUE=URI:https://eja-aalen.de/medien/kalender/icalrepeat.detail/2020/03/12/538/-/tei
 lbesetzung-eja?tmpl=component
DESCRIPTION: Dieser Event wurde importiert von: https://eja-aalen.de/medien/kalender/ic
 alrepeat.detail/2020/03/12/538/-/teilbesetzung-eja?tmpl=component
X-ALT-DESC;FMTTYPE=text/html: <a href="https://eja-aalen.de/medien/kalender/icalrepeat.detail/2020/03/12
 /538/-/teilbesetzung-eja?tmpl=component">Dieser Event wurde importiert von:
  https://eja-aalen.de/medien/kalender/icalrepeat.detail/2020/03/12/538/-/te
 ilbesetzung-eja?tmpl=component</a>DTSTAMP:20260421T190926
DTSTART:20200312T130000
SEQUENCE:0
TRANSP:OPAQUE
END:VEVENT
END:VCALENDAR