BEGIN:VCALENDAR
VERSION:2.0
PRODID:-//jEvents 2.0 for Joomla//EN
CALSCALE:GREGORIAN
METHOD:PUBLISH
BEGIN:VEVENT
UID:26f3091e97ade6bbf47334b07edf3a98
CATEGORIES:Gremien
CREATED:20200109T083921
SUMMARY:Regionentreffen Jurefs
LOCATION:Heidenheim
URL;VALUE=URI:https://eja-aalen.de/medien/kalender/icalrepeat.detail/2020/04/29/540/-/reg
 ionentreffen-jurefs?tmpl=component
DESCRIPTION: Dieser Event wurde importiert von: https://eja-aalen.de/medien/kalender/ic
 alrepeat.detail/2020/04/29/540/-/regionentreffen-jurefs?tmpl=component (htt
 ps://eja-aalen.de/medien/kalender/icalrepeat.detail/2020/04/29/540/-/region
 entreffen-jurefs?tmpl=component)
X-ALT-DESC;FMTTYPE=text/html: <a href="https://eja-aalen.de/medien/kalender/icalrepeat.detail/2020/04/29
 /540/-/regionentreffen-jurefs?tmpl=component">Dieser Event wurde importiert
  von: https://eja-aalen.de/medien/kalender/icalrepeat.detail/2020/04/29/540
 /-/regionentreffen-jurefs?tmpl=component</a>DTSTAMP:20260423T185633
DTSTART:20200429T090000
DTEND:20200429T123000
SEQUENCE:0
TRANSP:OPAQUE
END:VEVENT
END:VCALENDAR