BEGIN:VCALENDAR
VERSION:2.0
PRODID:-//jEvents 2.0 for Joomla//EN
CALSCALE:GREGORIAN
METHOD:PUBLISH
BEGIN:VEVENT
UID:10dea657c6b894d0d24ac5dcc19c2a28
CATEGORIES:Abwesenheit Verena
CREATED:20200109T084302
SUMMARY:Teilbesetzung EJA
URL;VALUE=URI:https://eja-aalen.de/medien/kalender/icalrepeat.detail/2020/01/15/542/-/tei
 lbesetzung-eja?tmpl=component
DESCRIPTION: <a href="https://eja-aalen.de/medien/kalender/icalrepeat.detail/2020/01/15
 /542/-/teilbesetzung-eja?tmpl=component">Dieser Event wurde importiert von:
  https://eja-aalen.de/medien/kalender/icalrepeat.detail/2020/01/15/542/-/te
 ilbesetzung-eja?tmpl=component</a>DTSTAMP:20260422T104955
DTSTART;VALUE=DATE:20200115
DTEND;VALUE=DATE:20200116
SEQUENCE:0
TRANSP:OPAQUE
END:VEVENT
END:VCALENDAR