BEGIN:VCALENDAR
VERSION:2.0
PRODID:-//jEvents 2.0 for Joomla//EN
CALSCALE:GREGORIAN
METHOD:PUBLISH
BEGIN:VEVENT
UID:49bf06813b217857349f5321d496c1e1
CATEGORIES:Abwesenheit Verena
CREATED:20200109T084620
SUMMARY:Teilbesetzung EJA
URL;VALUE=URI:https://eja-aalen.de/medien/kalender/icalrepeat.detail/2020/02/04/546/-/tei
 lbesetzung-eja?tmpl=component
DESCRIPTION:Fortbildungsbesuch\n Dieser Event wurde importiert von: https://eja-aalen.d
 e/medien/kalender/icalrepeat.detail/2020/02/04/546/-/teilbesetzung-eja?tmpl
 =component (https://eja-aalen.de/medien/kalender/icalrepeat.detail/2020/02/
 04/546/-/teilbesetzung-eja?tmpl=component)
X-ALT-DESC;FMTTYPE=text/html:<p>Fortbildungsbesuch</p> <a href="https://eja-aalen.de/medien/kalender/ica
 lrepeat.detail/2020/02/04/546/-/teilbesetzung-eja?tmpl=component">Dieser Ev
 ent wurde importiert von: https://eja-aalen.de/medien/kalender/icalrepeat.d
 etail/2020/02/04/546/-/teilbesetzung-eja?tmpl=component</a>DTSTAMP:20260424T164514
DTSTART;VALUE=DATE:20200204
DTEND;VALUE=DATE:20200205
SEQUENCE:0
TRANSP:OPAQUE
END:VEVENT
END:VCALENDAR