BEGIN:VCALENDAR
VERSION:2.0
PRODID:-//jEvents 2.0 for Joomla//EN
CALSCALE:GREGORIAN
METHOD:PUBLISH
BEGIN:VEVENT
UID:6f320bc2387752cec6a89bc09a998c94
CATEGORIES:Schulungen
CREATED:20200109T084842
SUMMARY:Planungstreffen GK 2020
LOCATION:ev. Gemeindehaus Aalen\, Friedhofstr. 5
URL;VALUE=URI:https://eja-aalen.de/medien/kalender/icalrepeat.detail/2020/02/20/548/-/pla
 nungstreffen-gk-2020?tmpl=component
DESCRIPTION: <a href="https://eja-aalen.de/medien/kalender/icalrepeat.detail/2020/02/20
 /548/-/planungstreffen-gk-2020?tmpl=component">Dieser Event wurde importier
 t von: https://eja-aalen.de/medien/kalender/icalrepeat.detail/2020/02/20/54
 8/-/planungstreffen-gk-2020?tmpl=component</a>CONTACT:Diese E-Mail-Adresse ist vor Spambots geschützt! Zur Anzeige muss JavaScript eingeschaltet sein!
				document.getElementById('cloak4d0e1c490f19c01167fd60e0390a2f54').innerHTML = '';
				var prefix = '&#109;a' + 'i&#108;' + '&#116;o';
				var path = 'hr' + 'ef' + '=';
				var addy4d0e1c490f19c01167fd60e0390a2f54 = '&#101;j&#97;' + '&#64;';
				addy4d0e1c490f19c01167fd60e0390a2f54 = addy4d0e1c490f19c01167fd60e0390a2f54 + '&#101;j&#97;-&#97;&#97;l&#101;n' + '&#46;' + 'd&#101;';
				var addy_text4d0e1c490f19c01167fd60e0390a2f54 = '&#101;j&#97;' + '&#64;' + '&#101;j&#97;-&#97;&#97;l&#101;n' + '&#46;' + 'd&#101;';document.getElementById('cloak4d0e1c490f19c01167fd60e0390a2f54').innerHTML += '<a ' + path + '\'' + prefix + ':' + addy4d0e1c490f19c01167fd60e0390a2f54 + '\'>'+addy_text4d0e1c490f19c01167fd60e0390a2f54+'';
		
DTSTAMP:20260423T171156
DTSTART:20200220T173000
SEQUENCE:0
TRANSP:OPAQUE
END:VEVENT
END:VCALENDAR