BEGIN:VCALENDAR
VERSION:2.0
PRODID:-//jEvents 2.0 for Joomla//EN
CALSCALE:GREGORIAN
METHOD:PUBLISH
BEGIN:VEVENT
UID:fd7b7c97b87b2d02d94ea04abc520dc5
CATEGORIES:Gremien
CREATED:20200109T085044
SUMMARY:EJW Konvent der Jugendreferenten
LOCATION:Bernhäuser Forst
URL;VALUE=URI:https://eja-aalen.de/medien/kalender/icalrepeat.detail/2020/03/02/549/-/ejw
 -konvent-der-jugendreferenten?tmpl=component
DESCRIPTION: Dieser Event wurde importiert von: https://eja-aalen.de/medien/kalender/ic
 alrepeat.detail/2020/03/02/549/-/ejw-konvent-der-jugendreferenten?tmpl=comp
 onent (https://eja-aalen.de/medien/kalender/icalrepeat.detail/2020/03/02/54
 9/-/ejw-konvent-der-jugendreferenten?tmpl=component)
X-ALT-DESC;FMTTYPE=text/html: <a href="https://eja-aalen.de/medien/kalender/icalrepeat.detail/2020/03/02
 /549/-/ejw-konvent-der-jugendreferenten?tmpl=component">Dieser Event wurde 
 importiert von: https://eja-aalen.de/medien/kalender/icalrepeat.detail/2020
 /03/02/549/-/ejw-konvent-der-jugendreferenten?tmpl=component</a>DTSTAMP:20260424T105545
DTSTART;VALUE=DATE:20200302
DTEND;VALUE=DATE:20200305
SEQUENCE:0
TRANSP:OPAQUE
END:VEVENT
END:VCALENDAR