BEGIN:VCALENDAR
VERSION:2.0
PRODID:-//jEvents 2.0 for Joomla//EN
CALSCALE:GREGORIAN
METHOD:PUBLISH
BEGIN:VEVENT
UID:e24bc9e648a0446654013ccb2a309e45
CATEGORIES:Abwesenheit Verena
CREATED:20200109T085201
SUMMARY:Teilbesetzung EJA
URL;VALUE=URI:https://eja-aalen.de/medien/kalender/icalrepeat.detail/2020/03/02/550/-/tei
 lbesetzung-eja?tmpl=component
DESCRIPTION:Fortbildungsbesuch Forum\n Dieser Event wurde importiert von: https://eja-a
 alen.de/medien/kalender/icalrepeat.detail/2020/03/02/550/-/teilbesetzung-ej
 a?tmpl=component (https://eja-aalen.de/medien/kalender/icalrepeat.detail/20
 20/03/02/550/-/teilbesetzung-eja?tmpl=component)
X-ALT-DESC;FMTTYPE=text/html:<p>Fortbildungsbesuch Forum</p> <a href="https://eja-aalen.de/medien/kalend
 er/icalrepeat.detail/2020/03/02/550/-/teilbesetzung-eja?tmpl=component">Die
 ser Event wurde importiert von: https://eja-aalen.de/medien/kalender/icalre
 peat.detail/2020/03/02/550/-/teilbesetzung-eja?tmpl=component</a>DTSTAMP:20260421T190841
DTSTART;VALUE=DATE:20200302
DTEND;VALUE=DATE:20200303
SEQUENCE:0
TRANSP:OPAQUE
END:VEVENT
END:VCALENDAR