BEGIN:VCALENDAR
VERSION:2.0
PRODID:-//jEvents 2.0 for Joomla//EN
CALSCALE:GREGORIAN
METHOD:PUBLISH
BEGIN:VEVENT
UID:330254c7d39c474671d27f204bb3496e
CATEGORIES:Veranstaltungen
CREATED:20200109T085743
SUMMARY:Teilbesetzung EJA
URL;VALUE=URI:https://eja-aalen.de/medien/kalender/icalrepeat.detail/2020/01/08/553/-/tei
 lbesetzung-eja?tmpl=component
DESCRIPTION:Regionenarbeit Ost - Besuch Konfigruppe Neresheim/Schweindorf\n Dieser Even
 t wurde importiert von: https://eja-aalen.de/medien/kalender/icalrepeat.det
 ail/2020/01/08/553/-/teilbesetzung-eja?tmpl=component
X-ALT-DESC;FMTTYPE=text/html:<p>Regionenarbeit Ost - Besuch Konfigruppe Neresheim/Schweindorf</p> <a hre
 f="https://eja-aalen.de/medien/kalender/icalrepeat.detail/2020/01/08/553/-/
 teilbesetzung-eja?tmpl=component">Dieser Event wurde importiert von: https:
 //eja-aalen.de/medien/kalender/icalrepeat.detail/2020/01/08/553/-/teilbeset
 zung-eja?tmpl=component</a>DTSTAMP:20260421T072055
DTSTART:20200108T131500
SEQUENCE:0
TRANSP:OPAQUE
END:VEVENT
END:VCALENDAR