BEGIN:VCALENDAR
VERSION:2.0
PRODID:-//jEvents 2.0 for Joomla//EN
CALSCALE:GREGORIAN
METHOD:PUBLISH
BEGIN:VEVENT
UID:d1279ba88f0e023145f1bee8a7b937d2
CATEGORIES:Jugendgottesdienste
CREATED:20200120T101741
SUMMARY:Lifeline Jugendgottesdienst (Abtsgmünd)
URL;VALUE=URI:https://eja-aalen.de/medien/kalender/icalrepeat.detail/2020/02/22/585/-/lif
 eline-jugendgottesdienst-abtsgmuend?tmpl=component
DESCRIPTION: Dieser Event wurde importiert von: https://eja-aalen.de/medien/kalender/ic
 alrepeat.detail/2020/02/22/585/-/lifeline-jugendgottesdienst-abtsgmuend?tmp
 l=component (https://eja-aalen.de/medien/kalender/icalrepeat.detail/2020/02
 /22/585/-/lifeline-jugendgottesdienst-abtsgmuend?tmpl=component)
X-ALT-DESC;FMTTYPE=text/html: <a href="https://eja-aalen.de/medien/kalender/icalrepeat.detail/2020/02/22
 /585/-/lifeline-jugendgottesdienst-abtsgmuend?tmpl=component">Dieser Event 
 wurde importiert von: https://eja-aalen.de/medien/kalender/icalrepeat.detai
 l/2020/02/22/585/-/lifeline-jugendgottesdienst-abtsgmuend?tmpl=component</a
 >DTSTAMP:20260423T104237
DTSTART:20200222T190000
SEQUENCE:0
TRANSP:OPAQUE
END:VEVENT
END:VCALENDAR