BEGIN:VCALENDAR
VERSION:2.0
PRODID:-//jEvents 2.0 for Joomla//EN
CALSCALE:GREGORIAN
METHOD:PUBLISH
BEGIN:VEVENT
UID:1833fcd03296c305ce0a3ab64365bba8
CATEGORIES:Jugendgottesdienste
CREATED:20200120T101817
SUMMARY:Lifeline Jugendgottesdienst (Abtsgmünd)
URL;VALUE=URI:https://eja-aalen.de/medien/kalender/icalrepeat.detail/2020/04/04/586/-/lif
 eline-jugendgottesdienst-abtsgmuend?tmpl=component
DESCRIPTION: <a href="https://eja-aalen.de/medien/kalender/icalrepeat.detail/2020/04/04
 /586/-/lifeline-jugendgottesdienst-abtsgmuend?tmpl=component">Dieser Event 
 wurde importiert von: https://eja-aalen.de/medien/kalender/icalrepeat.detai
 l/2020/04/04/586/-/lifeline-jugendgottesdienst-abtsgmuend?tmpl=component</a
 >DTSTAMP:20260424T143548
DTSTART:20200404T190000
SEQUENCE:0
TRANSP:OPAQUE
END:VEVENT
END:VCALENDAR