BEGIN:VCALENDAR
VERSION:2.0
PRODID:-//jEvents 2.0 for Joomla//EN
CALSCALE:GREGORIAN
METHOD:PUBLISH
BEGIN:VEVENT
UID:365fc198b466811f66e8da4a50641964
CATEGORIES:Abwesenheit Verena
CREATED:20200128T181840
SUMMARY:Teilbesetzung EJA
URL;VALUE=URI:https://eja-aalen.de/medien/kalender/icalrepeat.detail/2020/01/29/589/-/tei
 lbesetzung-eja?tmpl=component
DESCRIPTION: <a href="https://eja-aalen.de/medien/kalender/icalrepeat.detail/2020/01/29
 /589/-/teilbesetzung-eja?tmpl=component">Dieser Event wurde importiert von:
  https://eja-aalen.de/medien/kalender/icalrepeat.detail/2020/01/29/589/-/te
 ilbesetzung-eja?tmpl=component</a>DTSTAMP:20260423T181151
DTSTART;VALUE=DATE:20200129
DTEND;VALUE=DATE:20200130
SEQUENCE:0
TRANSP:OPAQUE
END:VEVENT
END:VCALENDAR