BEGIN:VCALENDAR
VERSION:2.0
PRODID:-//jEvents 2.0 for Joomla//EN
CALSCALE:GREGORIAN
METHOD:PUBLISH
BEGIN:VEVENT
UID:42f3df4789ab46ec4897f53ab9fd88dd
CATEGORIES:Abwesenheit Verena
CREATED:20200128T182146
SUMMARY:Teilbesetzung EJA
URL;VALUE=URI:https://eja-aalen.de/medien/kalender/icalrepeat.detail/2020/02/26/591/-/tei
 lbesetzung-eja?tmpl=component
DESCRIPTION: Dieser Event wurde importiert von: https://eja-aalen.de/medien/kalender/ic
 alrepeat.detail/2020/02/26/591/-/teilbesetzung-eja?tmpl=component
X-ALT-DESC;FMTTYPE=text/html: <a href="https://eja-aalen.de/medien/kalender/icalrepeat.detail/2020/02/26
 /591/-/teilbesetzung-eja?tmpl=component">Dieser Event wurde importiert von:
  https://eja-aalen.de/medien/kalender/icalrepeat.detail/2020/02/26/591/-/te
 ilbesetzung-eja?tmpl=component</a>DTSTAMP:20260421T140352
DTSTART;VALUE=DATE:20200226
DTEND;VALUE=DATE:20200228
SEQUENCE:0
TRANSP:OPAQUE
END:VEVENT
END:VCALENDAR