BEGIN:VCALENDAR
VERSION:2.0
PRODID:-//jEvents 2.0 for Joomla//EN
CALSCALE:GREGORIAN
METHOD:PUBLISH
BEGIN:VEVENT
UID:0d8d358e724b4613aa4f2dfb7827ac44
CATEGORIES:Abwesenheit Elke
CREATED:19700101T000000
SUMMARY:Teilbesetzung EJA
URL;VALUE=URI:https://eja-aalen.de/medien/kalender/icalrepeat.detail/2020/01/27/592/-/tei
 lbesetzung-eja?tmpl=component
DESCRIPTION: Dieser Event wurde importiert von: https://eja-aalen.de/medien/kalender/ic
 alrepeat.detail/2020/01/27/592/-/teilbesetzung-eja?tmpl=component
X-ALT-DESC;FMTTYPE=text/html: <a href="https://eja-aalen.de/medien/kalender/icalrepeat.detail/2020/01/27
 /592/-/teilbesetzung-eja?tmpl=component">Dieser Event wurde importiert von:
  https://eja-aalen.de/medien/kalender/icalrepeat.detail/2020/01/27/592/-/te
 ilbesetzung-eja?tmpl=component</a>DTSTAMP:20260423T145550
DTSTART;VALUE=DATE:20200127
DTEND;VALUE=DATE:20200128
SEQUENCE:0
RRULE:FREQ=WEEKLY;UNTIL=20200130T000000Z;INTERVAL=1;BYDAY=MO,TH
TRANSP:OPAQUE
END:VEVENT
END:VCALENDAR