BEGIN:VCALENDAR
VERSION:2.0
PRODID:-//jEvents 2.0 for Joomla//EN
CALSCALE:GREGORIAN
METHOD:PUBLISH
BEGIN:VEVENT
UID:ca73cfb61cb7b06cf844dc44d70f3c85
CATEGORIES:Gremien
CREATED:20200221T184416
SUMMARY:Delegiertenversammlung EJA
LOCATION:n.n.
URL;VALUE=URI:https://eja-aalen.de/medien/kalender/icalrepeat.detail/2021/03/06/599/-/del
 egiertenversammlung-eja?tmpl=component
DESCRIPTION:Delegiertenversammlung des Bezirksjugendwerks Aalen!\nHerzliche Einladung a
 n alle Interessierten, vor Ort in der Kirchengemeinde tätigen Ehrenamtliche
 n, Pfarrer/innen und Verantwortlichen - sich an diesem Nachmittag mit uns z
 u besprechen und kulinarisch mit einem DANKEVIELMALS-ESSEN verwöhnen zu las
 sen:\nhier könnt IHR klar mitbestimmen, was das Bezirksjugendwerk in der nä
 chsten Zeit angehen soll; \nmitbewegen und uns alle persönlich eure Meinung
  mitteilen! \n Dieser Event wurde importiert von: https://eja-aalen.de/medi
 en/kalender/icalrepeat.detail/2021/03/06/599/-/delegiertenversammlung-eja?t
 mpl=component
X-ALT-DESC;FMTTYPE=text/html:<p>Delegiertenversammlung des Bezirksjugendwerks Aalen!</p><p>Herzliche Ein
 ladung an alle Interessierten, vor Ort in der Kirchengemeinde t&auml;tigen 
 Ehrenamtlichen, Pfarrer/innen und Verantwortlichen - sich an diesem Nachmit
 tag mit uns zu besprechen und kulinarisch mit einem DANKEVIELMALS-ESSEN ver
 w&ouml;hnen zu lassen:</p><p><strong>hier k&ouml;nnt IHR klar mitbestimmen,
  was das Bezirksjugendwerk in der n&auml;chsten Zeit angehen soll; </strong
 ></p><p><strong>mitbewegen und uns alle pers&ouml;nlich eure Meinung mittei
 len! </strong></p> <a href="https://eja-aalen.de/medien/kalender/icalrepeat
 .detail/2021/03/06/599/-/delegiertenversammlung-eja?tmpl=component">Dieser 
 Event wurde importiert von: https://eja-aalen.de/medien/kalender/icalrepeat
 .detail/2021/03/06/599/-/delegiertenversammlung-eja?tmpl=component</a>CONTACT:Diese E-Mail-Adresse ist vor Spambots geschützt! Zur Anzeige muss JavaScript eingeschaltet sein!
				document.getElementById('cloakae3c2d5049f2f8d0d4e3654743921a31').innerHTML = '';
				var prefix = '&#109;a' + 'i&#108;' + '&#116;o';
				var path = 'hr' + 'ef' + '=';
				var addyae3c2d5049f2f8d0d4e3654743921a31 = 'v&#111;rs&#105;tz&#101;nd&#101;' + '&#64;';
				addyae3c2d5049f2f8d0d4e3654743921a31 = addyae3c2d5049f2f8d0d4e3654743921a31 + '&#101;j&#97;-&#97;&#97;l&#101;n' + '&#46;' + 'd&#101;';
				var addy_textae3c2d5049f2f8d0d4e3654743921a31 = 'v&#111;rs&#105;tz&#101;nd&#101;' + '&#64;' + '&#101;j&#97;-&#97;&#97;l&#101;n' + '&#46;' + 'd&#101;';document.getElementById('cloakae3c2d5049f2f8d0d4e3654743921a31').innerHTML += '<a ' + path + '\'' + prefix + ':' + addyae3c2d5049f2f8d0d4e3654743921a31 + '\'>'+addy_textae3c2d5049f2f8d0d4e3654743921a31+'';
		
DTSTAMP:20260421T104435
DTSTART:20210306T160000
SEQUENCE:0
TRANSP:OPAQUE
END:VEVENT
END:VCALENDAR