BEGIN:VCALENDAR
VERSION:2.0
PRODID:-//jEvents 2.0 for Joomla//EN
CALSCALE:GREGORIAN
METHOD:PUBLISH
BEGIN:VEVENT
UID:dcc3fcbd880d5f884de2f926051c5ca2
CATEGORIES:Gremien
CREATED:20200221T184613
SUMMARY:BAK Wochenende 
LOCATION:ev. Jugendheim im Rottal
URL;VALUE=URI:https://eja-aalen.de/medien/kalender/icalrepeat.detail/2021/03/19/600/-/bak
 -wochenende?tmpl=component
DESCRIPTION:BAK Wochenende im Rottal - Beginn Freitagabend Anreise ab 18:00 Uhr\n- geme
 insame Zeit\n- Kennen lernen des BAK\n- Klausur\n- Spannung, Spiel und Verw
 öhnprogramm\n- BAK Sitzung, konzeptionelle Planung\n Ende: Sonntagmittag, n
 ach gemeinsamem Mittagessen\n Dieser Event wurde importiert von: https://ej
 a-aalen.de/medien/kalender/icalrepeat.detail/2021/03/19/600/-/bak-wochenend
 e?tmpl=component
X-ALT-DESC;FMTTYPE=text/html:<p>BAK Wochenende im Rottal - Beginn Freitagabend Anreise ab 18:00 Uhr</p><
 p>- gemeinsame Zeit</p><p>- Kennen lernen des BAK</p><p>- Klausur</p><p>- S
 pannung, Spiel und Verw&ouml;hnprogramm</p><p>- BAK Sitzung, konzeptionelle
  Planung</p><p>&nbsp;Ende: Sonntagmittag, nach gemeinsamem Mittagessen</p> 
 <a href="https://eja-aalen.de/medien/kalender/icalrepeat.detail/2021/03/19/
 600/-/bak-wochenende?tmpl=component">Dieser Event wurde importiert von: htt
 ps://eja-aalen.de/medien/kalender/icalrepeat.detail/2021/03/19/600/-/bak-wo
 chenende?tmpl=component</a>CONTACT:Diese E-Mail-Adresse ist vor Spambots geschützt! Zur Anzeige muss JavaScript eingeschaltet sein!
				document.getElementById('cloak39a0c82dca648cb7f27dbbbb692fa084').innerHTML = '';
				var prefix = '&#109;a' + 'i&#108;' + '&#116;o';
				var path = 'hr' + 'ef' + '=';
				var addy39a0c82dca648cb7f27dbbbb692fa084 = '&#101;j&#97;' + '&#64;';
				addy39a0c82dca648cb7f27dbbbb692fa084 = addy39a0c82dca648cb7f27dbbbb692fa084 + '&#101;j&#97;-&#97;&#97;l&#101;n' + '&#46;' + 'd&#101;';
				var addy_text39a0c82dca648cb7f27dbbbb692fa084 = '&#101;j&#97;' + '&#64;' + '&#101;j&#97;-&#97;&#97;l&#101;n' + '&#46;' + 'd&#101;';document.getElementById('cloak39a0c82dca648cb7f27dbbbb692fa084').innerHTML += '<a ' + path + '\'' + prefix + ':' + addy39a0c82dca648cb7f27dbbbb692fa084 + '\'>'+addy_text39a0c82dca648cb7f27dbbbb692fa084+'';
		
DTSTAMP:20260420T172834
DTSTART:20210319T180000
DTEND;VALUE=DATE:20210322
SEQUENCE:0
TRANSP:OPAQUE
END:VEVENT
END:VCALENDAR