BEGIN:VCALENDAR
VERSION:2.0
PRODID:-//jEvents 2.0 for Joomla//EN
CALSCALE:GREGORIAN
METHOD:PUBLISH
BEGIN:VEVENT
UID:a773915738b442c6df10d762ee51e9ab
CATEGORIES:Abwesenheit Lorena
CREATED:20200403T153955
SUMMARY:Abwesenheit Lorena 
URL;VALUE=URI:https://eja-aalen.de/medien/kalender/icalrepeat.detail/2020/04/14/605/-/abw
 esenheit-lorena?tmpl=component
DESCRIPTION: <a href="https://eja-aalen.de/medien/kalender/icalrepeat.detail/2020/04/14
 /605/-/abwesenheit-lorena?tmpl=component">Dieser Event wurde importiert von
 : https://eja-aalen.de/medien/kalender/icalrepeat.detail/2020/04/14/605/-/a
 bwesenheit-lorena?tmpl=component</a>DTSTAMP:20260423T153120
DTSTART;VALUE=DATE:20200414
DTEND;VALUE=DATE:20200418
SEQUENCE:0
TRANSP:OPAQUE
END:VEVENT
END:VCALENDAR