BEGIN:VCALENDAR
VERSION:2.0
PRODID:-//jEvents 2.0 for Joomla//EN
CALSCALE:GREGORIAN
METHOD:PUBLISH
BEGIN:VEVENT
UID:2be42b6aae335d24fb19dcafb6d5cf10
CATEGORIES:Veranstaltungen
CREATED:19700101T000000
SUMMARY:rAuszeit - Onlineangebot
LOCATION:Online: http://eja-aalen.de/rauszeit
URL;VALUE=URI:https://eja-aalen.de/medien/kalender/icalrepeat.detail/2020/04/06/606/-/rau
 szeit-onlineangebot?tmpl=component
DESCRIPTION:Jeden Tag um 16.00 Uhr gibt’s nen kleinen Impuls zu unserem Wochenthema (di
 ese Woche: Hoffnung) und die Möglichkeit sich einfach mal in Ruhe darüber a
 uszutauschen. Jeder kann so mitmachen, wie er oder sie gerne möchte. Du bra
 uchst dazu nur ein internetfähiges Gerät und die Lust mal reinzuklicken. Am
  einfachsten funktionierts, wenn du den Google-Chrom-Browser benutzen kanns
 t oder die App nutzt. Egal, wie du magst.\n Dieser Event wurde importiert v
 on: https://eja-aalen.de/medien/kalender/icalrepeat.detail/2020/04/06/606/-
 /rauszeit-onlineangebot?tmpl=component (https://eja-aalen.de/medien/kalende
 r/icalrepeat.detail/2020/04/06/606/-/rauszeit-onlineangebot?tmpl=component)
X-ALT-DESC;FMTTYPE=text/html:<p>Jeden Tag um 16.00 Uhr gibt&rsquo;s nen kleinen Impuls zu unserem Wochen
 thema (diese Woche: Hoffnung) und die M&ouml;glichkeit sich einfach mal in 
 Ruhe dar&uuml;ber auszutauschen. Jeder kann so mitmachen, wie er oder sie g
 erne m&ouml;chte. Du brauchst dazu nur ein internetf&auml;higes Ger&auml;t 
 und die Lust mal reinzuklicken. Am einfachsten funktionierts, wenn du den G
 oogle-Chrom-Browser benutzen kannst oder die App nutzt. Egal, wie du magst.
 </p> <a href="https://eja-aalen.de/medien/kalender/icalrepeat.detail/2020/0
 4/06/606/-/rauszeit-onlineangebot?tmpl=component">Dieser Event wurde import
 iert von: https://eja-aalen.de/medien/kalender/icalrepeat.detail/2020/04/06
 /606/-/rauszeit-onlineangebot?tmpl=component</a>CONTACT:gemperlein.verena@eja-aalen.de
DTSTAMP:20260423T191613
DTSTART:20200406T160000
DTEND:20200406T163000
SEQUENCE:0
RRULE:FREQ=DAILY;UNTIL=20200412T000000Z;INTERVAL=1
TRANSP:OPAQUE
END:VEVENT
END:VCALENDAR