BEGIN:VCALENDAR
VERSION:2.0
PRODID:-//jEvents 2.0 for Joomla//EN
CALSCALE:GREGORIAN
METHOD:PUBLISH
BEGIN:VEVENT
UID:8215fe1b496c9abb08b99dacdfda881a
CATEGORIES:Veranstaltungen
CREATED:19700101T000000
SUMMARY:rAuszeit - Onlineangebot
LOCATION:http://eja-aalen.de/rauszeit
URL;VALUE=URI:https://eja-aalen.de/medien/kalender/icalrepeat.detail/2020/04/13/627/-/rau
 szeit-onlineangebot?tmpl=component
DESCRIPTION:Jeden Tag um 16.00 Uhr gibt’s nen kleinen Impuls zu unserem Wochenthema (di
 ese Woche: Spiel &amp; Spaß) und die Möglichkeit sich einfach mal in Ruhe d
 arüber auszutauschen. Jeder kann so mitmachen, wie er oder sie gerne möchte
 . Du brauchst dazu nur ein internetfähiges Gerät und die Lust mal reinzukli
 cken. Am einfachsten funktionierts, wenn du den Google-Chrom-Browser benutz
 en kannst oder die App nutzt. Egal, wie du magst.\n Dieser Event wurde impo
 rtiert von: https://eja-aalen.de/medien/kalender/icalrepeat.detail/2020/04/
 13/627/-/rauszeit-onlineangebot?tmpl=component
X-ALT-DESC;FMTTYPE=text/html:<p>Jeden Tag um 16.00 Uhr gibt&rsquo;s nen kleinen Impuls zu unserem Wochen
 thema (diese Woche: Spiel &amp; Spa&szlig;) und die M&ouml;glichkeit sich e
 infach mal in Ruhe dar&uuml;ber auszutauschen. Jeder kann so mitmachen, wie
  er oder sie gerne m&ouml;chte. Du brauchst dazu nur ein internetf&auml;hig
 es Ger&auml;t und die Lust mal reinzuklicken. Am einfachsten funktionierts,
  wenn du den Google-Chrom-Browser benutzen kannst oder die App nutzt. Egal,
  wie du magst.</p> <a href="https://eja-aalen.de/medien/kalender/icalrepeat
 .detail/2020/04/13/627/-/rauszeit-onlineangebot?tmpl=component">Dieser Even
 t wurde importiert von: https://eja-aalen.de/medien/kalender/icalrepeat.det
 ail/2020/04/13/627/-/rauszeit-onlineangebot?tmpl=component</a>CONTACT:gemperlein.verena@eja-aalen.de
DTSTAMP:20260423T055111
DTSTART:20200413T160000
DTEND:20200413T163000
SEQUENCE:0
RRULE:FREQ=DAILY;UNTIL=20200419T000000Z;INTERVAL=1
TRANSP:OPAQUE
END:VEVENT
END:VCALENDAR