BEGIN:VCALENDAR
VERSION:2.0
PRODID:-//jEvents 2.0 for Joomla//EN
CALSCALE:GREGORIAN
METHOD:PUBLISH
BEGIN:VEVENT
UID:bd4c7533f718b3b3460ee60c3e1abd03
CATEGORIES:Veranstaltungen
CREATED:19700101T000000
SUMMARY:rAuszeit - Onlineangebot
LOCATION:http://eja-aalen.de/rauszeit
URL;VALUE=URI:https://eja-aalen.de/medien/kalender/icalrepeat.detail/2020/03/30/634/-/rau
 szeit-onlineangebot?tmpl=component
DESCRIPTION:<p>T&auml;gliches Angebot zum Reinschnuppern, f&uuml;r den gemeinsamen Aust
 ausch und mehr. Jede/r kann mitmachen, so wie es f&uuml;r einen selbst pass
 t. Unser Wochenthema: W&uuml;nsche &amp; Tr&auml;ume</p><p>Dauer ca. 30min<
 /p> <a href="https://eja-aalen.de/medien/kalender/icalrepeat.detail/2020/03
 /30/634/-/rauszeit-onlineangebot?tmpl=component">Dieser Event wurde importi
 ert von: https://eja-aalen.de/medien/kalender/icalrepeat.detail/2020/03/30/
 634/-/rauszeit-onlineangebot?tmpl=component</a>CONTACT:gemperlein.verena@eja-aalen.de
DTSTAMP:20260421T000703
DTSTART:20200330T160000
DTEND:20200330T163000
SEQUENCE:0
RRULE:FREQ=DAILY;UNTIL=20200405T000000Z;INTERVAL=1
TRANSP:OPAQUE
END:VEVENT
END:VCALENDAR