BEGIN:VCALENDAR
VERSION:2.0
PRODID:-//jEvents 2.0 for Joomla//EN
CALSCALE:GREGORIAN
METHOD:PUBLISH
BEGIN:VEVENT
UID:c27fe4f4395cc7cdb502f72260afca7d
CATEGORIES:Region Süd Vakant
CREATED:20200408T140125
SUMMARY:Teilbesetzung EJA
URL;VALUE=URI:https://eja-aalen.de/medien/kalender/icalrepeat.detail/2020/04/09/642/-/tei
 lbesetzung-eja?tmpl=component
DESCRIPTION: <a href="https://eja-aalen.de/medien/kalender/icalrepeat.detail/2020/04/09
 /642/-/teilbesetzung-eja?tmpl=component">Dieser Event wurde importiert von:
  https://eja-aalen.de/medien/kalender/icalrepeat.detail/2020/04/09/642/-/te
 ilbesetzung-eja?tmpl=component</a>DTSTAMP:20260424T164902
DTSTART;VALUE=DATE:20200409
DTEND;VALUE=DATE:20200420
SEQUENCE:0
TRANSP:OPAQUE
END:VEVENT
END:VCALENDAR