BEGIN:VCALENDAR
VERSION:2.0
PRODID:-//jEvents 2.0 for Joomla//EN
CALSCALE:GREGORIAN
METHOD:PUBLISH
BEGIN:VEVENT
UID:78c4d0f9fe522058ae8f6acb7a5b8050
CATEGORIES:Jugendgottesdienste
CREATED:19700101T000000
SUMMARY:Online Bibelarbeit (http://eja-aalen.de/onlineBibelarbeit)
URL;VALUE=URI:https://eja-aalen.de/medien/kalender/icalrepeat.detail/2020/04/10/643/-/onl
 ine-bibelarbeit-http-eja-aalen-de-onlinebibelarbeit?tmpl=component
DESCRIPTION: Dieser Event wurde importiert von: https://eja-aalen.de/medien/kalender/ic
 alrepeat.detail/2020/04/10/643/-/online-bibelarbeit-http-eja-aalen-de-onlin
 ebibelarbeit?tmpl=component
X-ALT-DESC;FMTTYPE=text/html: <a href="https://eja-aalen.de/medien/kalender/icalrepeat.detail/2020/04/10
 /643/-/online-bibelarbeit-http-eja-aalen-de-onlinebibelarbeit?tmpl=componen
 t">Dieser Event wurde importiert von: https://eja-aalen.de/medien/kalender/
 icalrepeat.detail/2020/04/10/643/-/online-bibelarbeit-http-eja-aalen-de-onl
 inebibelarbeit?tmpl=component</a>DTSTAMP:20260424T125105
DTSTART:20200410T150000
DTEND:20200410T160000
SEQUENCE:0
RRULE:FREQ=WEEKLY;UNTIL=20200421T000000Z;INTERVAL=1;BYDAY=TU,FR
TRANSP:OPAQUE
END:VEVENT
END:VCALENDAR