BEGIN:VCALENDAR
VERSION:2.0
PRODID:-//jEvents 2.0 for Joomla//EN
CALSCALE:GREGORIAN
METHOD:PUBLISH
BEGIN:VEVENT
UID:2899f05a398f529b3431ca44a6f0c9a2
CATEGORIES:Veranstaltungen
CREATED:19700101T000000
SUMMARY:rAuszeit - Onlineangebot
LOCATION:http://eja-aalen.de/rauszeit
URL;VALUE=URI:https://eja-aalen.de/medien/kalender/icalrepeat.detail/2020/04/20/647/-/rau
 szeit-onlineangebot?tmpl=component
DESCRIPTION:tägliches Angebot für alle Interessierten\nWochenthema: Freiheit\n Dieser E
 vent wurde importiert von: https://eja-aalen.de/medien/kalender/icalrepeat.
 detail/2020/04/20/647/-/rauszeit-onlineangebot?tmpl=component (https://eja-
 aalen.de/medien/kalender/icalrepeat.detail/2020/04/20/647/-/rauszeit-online
 angebot?tmpl=component)
X-ALT-DESC;FMTTYPE=text/html:<p>t&auml;gliches Angebot f&uuml;r alle Interessierten</p><p>Wochenthema: F
 reiheit</p> <a href="https://eja-aalen.de/medien/kalender/icalrepeat.detail
 /2020/04/20/647/-/rauszeit-onlineangebot?tmpl=component">Dieser Event wurde
  importiert von: https://eja-aalen.de/medien/kalender/icalrepeat.detail/202
 0/04/20/647/-/rauszeit-onlineangebot?tmpl=component</a>CONTACT:gemperlein.verena@eja-aalen.de
DTSTAMP:20260423T043817
DTSTART:20200420T160000
DTEND:20200420T163000
SEQUENCE:0
RRULE:FREQ=DAILY;UNTIL=20200426T000000Z;INTERVAL=1
TRANSP:OPAQUE
END:VEVENT
END:VCALENDAR