BEGIN:VCALENDAR
VERSION:2.0
PRODID:-//jEvents 2.0 for Joomla//EN
CALSCALE:GREGORIAN
METHOD:PUBLISH
BEGIN:VEVENT
UID:57a5dc303e4fcc8e264f4ff465d15799
CATEGORIES:Abwesenheit Verena
CREATED:20200421T164234
SUMMARY:Teilbesetzung EJA
URL;VALUE=URI:https://eja-aalen.de/medien/kalender/icalrepeat.detail/2020/04/22/654/-/tei
 lbesetzung-eja?tmpl=component
DESCRIPTION: <a href="https://eja-aalen.de/medien/kalender/icalrepeat.detail/2020/04/22
 /654/-/teilbesetzung-eja?tmpl=component">Dieser Event wurde importiert von:
  https://eja-aalen.de/medien/kalender/icalrepeat.detail/2020/04/22/654/-/te
 ilbesetzung-eja?tmpl=component</a>DTSTAMP:20260425T143522
DTSTART:20200422T080000
DTEND:20200422T170000
SEQUENCE:0
TRANSP:OPAQUE
END:VEVENT
END:VCALENDAR