BEGIN:VCALENDAR
VERSION:2.0
PRODID:-//jEvents 2.0 for Joomla//EN
CALSCALE:GREGORIAN
METHOD:PUBLISH
BEGIN:VEVENT
UID:b3e597d8a9ce8413d6bf3ef3b9a01dbe
CATEGORIES:Abwesenheit Elke
CREATED:20200421T164711
SUMMARY:Teilbesetzung EJA
URL;VALUE=URI:https://eja-aalen.de/medien/kalender/icalrepeat.detail/2020/04/27/659/-/tei
 lbesetzung-eja?tmpl=component
DESCRIPTION: <a href="https://eja-aalen.de/medien/kalender/icalrepeat.detail/2020/04/27
 /659/-/teilbesetzung-eja?tmpl=component">Dieser Event wurde importiert von:
  https://eja-aalen.de/medien/kalender/icalrepeat.detail/2020/04/27/659/-/te
 ilbesetzung-eja?tmpl=component</a>DTSTAMP:20260422T000636
DTSTART;VALUE=DATE:20200427
DTEND;VALUE=DATE:20200428
SEQUENCE:0
TRANSP:OPAQUE
END:VEVENT
END:VCALENDAR