BEGIN:VCALENDAR
VERSION:2.0
PRODID:-//jEvents 2.0 for Joomla//EN
CALSCALE:GREGORIAN
METHOD:PUBLISH
BEGIN:VEVENT
UID:b6544fda34195d34b36efd84ce533a3a
CATEGORIES:Abwesenheit Verena
CREATED:20200430T224111
SUMMARY:Teilbesetzung EJA 
URL;VALUE=URI:https://eja-aalen.de/medien/kalender/icalrepeat.detail/2020/05/04/670/-/tei
 lbesetzung-eja?tmpl=component
DESCRIPTION: <a href="https://eja-aalen.de/medien/kalender/icalrepeat.detail/2020/05/04
 /670/-/teilbesetzung-eja?tmpl=component">Dieser Event wurde importiert von:
  https://eja-aalen.de/medien/kalender/icalrepeat.detail/2020/05/04/670/-/te
 ilbesetzung-eja?tmpl=component</a>DTSTAMP:20260423T232204
DTSTART;VALUE=DATE:20200504
DTEND;VALUE=DATE:20200506
SEQUENCE:0
TRANSP:OPAQUE
END:VEVENT
END:VCALENDAR