BEGIN:VCALENDAR
VERSION:2.0
PRODID:-//jEvents 2.0 for Joomla//EN
CALSCALE:GREGORIAN
METHOD:PUBLISH
BEGIN:VEVENT
UID:cac9038ced416706ac08381aed073e31
CATEGORIES:Veranstaltungen
CREATED:19700101T000000
SUMMARY:rAuszeit online-Angebot für Interessierte Thema "wertvoll"
LOCATION:http://eja-aalen.de/rauszeit
URL;VALUE=URI:https://eja-aalen.de/medien/kalender/icalrepeat.detail/2020/05/13/675/-/rau
 szeit-online-angebot-fuer-interessierte-thema-wertvoll?tmpl=component
DESCRIPTION:Dich erwartet:\n- gemeinsamer Austausch über ein Thema (orientiert am Woche
 nthema: wertvoll)\n- lebendige Gespräche oder einfach nur Zuhören können\n-
  offene Runde, jederzeit ist der Ein- und Ausstieg möglich\n Dieser Event w
 urde importiert von: https://eja-aalen.de/medien/kalender/icalrepeat.detail
 /2020/05/13/675/-/rauszeit-online-angebot-fuer-interessierte-thema-wertvoll
 ?tmpl=component
X-ALT-DESC;FMTTYPE=text/html:<div class="jev_evdt_desc"><p>Dich erwartet:</p><p>- gemeinsamer Austausch 
 &uuml;ber ein Thema (orientiert am Wochenthema: wertvoll)</p><p>- lebendige
  Gespr&auml;che oder einfach nur Zuh&ouml;ren k&ouml;nnen</p><p>- offene Ru
 nde, jederzeit ist der Ein- und Ausstieg m&ouml;glich</p></div> <a href="ht
 tps://eja-aalen.de/medien/kalender/icalrepeat.detail/2020/05/13/675/-/rausz
 eit-online-angebot-fuer-interessierte-thema-wertvoll?tmpl=component">Dieser
  Event wurde importiert von: https://eja-aalen.de/medien/kalender/icalrepea
 t.detail/2020/05/13/675/-/rauszeit-online-angebot-fuer-interessierte-thema-
 wertvoll?tmpl=component</a>CONTACT:gemperlein.verena@eja-aalen.de
DTSTAMP:20260420T211029
DTSTART:20200513T160000
DTEND:20200513T163000
SEQUENCE:0
RRULE:FREQ=WEEKLY;UNTIL=20200518T000000Z;INTERVAL=1;BYDAY=SU,WE,TH
TRANSP:OPAQUE
END:VEVENT
END:VCALENDAR