BEGIN:VCALENDAR
VERSION:2.0
PRODID:-//jEvents 2.0 for Joomla//EN
CALSCALE:GREGORIAN
METHOD:PUBLISH
BEGIN:VEVENT
UID:8c42bf01a26213f706a1313d00d04472
CATEGORIES:Abwesenheit Verena
CREATED:20200520T135053
SUMMARY:Teilbesetzung EJA 
URL;VALUE=URI:https://eja-aalen.de/medien/kalender/icalrepeat.detail/2020/08/03/682/-/tei
 lbesetzung-eja?tmpl=component
DESCRIPTION: Dieser Event wurde importiert von: https://eja-aalen.de/medien/kalender/ic
 alrepeat.detail/2020/08/03/682/-/teilbesetzung-eja?tmpl=component (https://
 eja-aalen.de/medien/kalender/icalrepeat.detail/2020/08/03/682/-/teilbesetzu
 ng-eja?tmpl=component)
X-ALT-DESC;FMTTYPE=text/html: <a href="https://eja-aalen.de/medien/kalender/icalrepeat.detail/2020/08/03
 /682/-/teilbesetzung-eja?tmpl=component">Dieser Event wurde importiert von:
  https://eja-aalen.de/medien/kalender/icalrepeat.detail/2020/08/03/682/-/te
 ilbesetzung-eja?tmpl=component</a>DTSTAMP:20260421T115719
DTSTART;VALUE=DATE:20200803
DTEND;VALUE=DATE:20200808
SEQUENCE:0
TRANSP:OPAQUE
END:VEVENT
END:VCALENDAR