BEGIN:VCALENDAR
VERSION:2.0
PRODID:-//jEvents 2.0 for Joomla//EN
CALSCALE:GREGORIAN
METHOD:PUBLISH
BEGIN:VEVENT
UID:ca277a5de61c0c64f9ba0a2275919321
CATEGORIES:Abwesenheit Lorena
CREATED:20200528T125630
SUMMARY:Abwesenheit Lorena
URL;VALUE=URI:https://eja-aalen.de/medien/kalender/icalrepeat.detail/2020/06/02/683/-/abw
 esenheit-lorena?tmpl=component
DESCRIPTION: Dieser Event wurde importiert von: https://eja-aalen.de/medien/kalender/ic
 alrepeat.detail/2020/06/02/683/-/abwesenheit-lorena?tmpl=component (https:/
 /eja-aalen.de/medien/kalender/icalrepeat.detail/2020/06/02/683/-/abwesenhei
 t-lorena?tmpl=component)
X-ALT-DESC;FMTTYPE=text/html: <a href="https://eja-aalen.de/medien/kalender/icalrepeat.detail/2020/06/02
 /683/-/abwesenheit-lorena?tmpl=component">Dieser Event wurde importiert von
 : https://eja-aalen.de/medien/kalender/icalrepeat.detail/2020/06/02/683/-/a
 bwesenheit-lorena?tmpl=component</a>DTSTAMP:20260424T220700
DTSTART;VALUE=DATE:20200602
DTEND;VALUE=DATE:20200606
SEQUENCE:0
TRANSP:OPAQUE
END:VEVENT
END:VCALENDAR