BEGIN:VCALENDAR
VERSION:2.0
PRODID:-//jEvents 2.0 for Joomla//EN
CALSCALE:GREGORIAN
METHOD:PUBLISH
BEGIN:VEVENT
UID:9a3ca12067e1aaf87650ec474dcd206d
CATEGORIES:Freizeiten
CREATED:20200917T135129
SUMMARY:Bubenzeltlager 
URL;VALUE=URI:https://eja-aalen.de/medien/kalender/icalrepeat.detail/2021/07/30/725/-/bub
 enzeltlager?tmpl=component
DESCRIPTION: Dieser Event wurde importiert von: https://eja-aalen.de/medien/kalender/ic
 alrepeat.detail/2021/07/30/725/-/bubenzeltlager?tmpl=component
X-ALT-DESC;FMTTYPE=text/html: <a href="https://eja-aalen.de/medien/kalender/icalrepeat.detail/2021/07/30
 /725/-/bubenzeltlager?tmpl=component">Dieser Event wurde importiert von: ht
 tps://eja-aalen.de/medien/kalender/icalrepeat.detail/2021/07/30/725/-/buben
 zeltlager?tmpl=component</a>DTSTAMP:20260422T204522
DTSTART;VALUE=DATE:20210730
DTEND;VALUE=DATE:20210809
SEQUENCE:0
TRANSP:OPAQUE
END:VEVENT
END:VCALENDAR