BEGIN:VCALENDAR
VERSION:2.0
PRODID:-//jEvents 2.0 for Joomla//EN
CALSCALE:GREGORIAN
METHOD:PUBLISH
BEGIN:VEVENT
UID:8be233da907c5ad7bc7e232784ba157c
CATEGORIES:Schulungen
CREATED:20201027T143747
SUMMARY:Mitarbeiterabend 
LOCATION:Wasseralfingen 
URL;VALUE=URI:https://eja-aalen.de/medien/kalender/icalrepeat.detail/2020/11/06/734/-/mit
 arbeiterabend?tmpl=component
DESCRIPTION: Dieser Event wurde importiert von: https://eja-aalen.de/medien/kalender/ic
 alrepeat.detail/2020/11/06/734/-/mitarbeiterabend?tmpl=component
X-ALT-DESC;FMTTYPE=text/html: <a href="https://eja-aalen.de/medien/kalender/icalrepeat.detail/2020/11/06
 /734/-/mitarbeiterabend?tmpl=component">Dieser Event wurde importiert von: 
 https://eja-aalen.de/medien/kalender/icalrepeat.detail/2020/11/06/734/-/mit
 arbeiterabend?tmpl=component</a>DTSTAMP:20260424T095056
DTSTART:20201106T190000
DTEND:20201106T210000
SEQUENCE:0
TRANSP:OPAQUE
END:VEVENT
END:VCALENDAR