BEGIN:VCALENDAR
VERSION:2.0
PRODID:-//jEvents 2.0 for Joomla//EN
CALSCALE:GREGORIAN
METHOD:PUBLISH
BEGIN:VEVENT
UID:8b90d0d109b438b680f3051d53f5ce39
CATEGORIES:Jugendgottesdienste
CREATED:20201030T140205
SUMMARY:ZAGG-Jugendgottesdienst - Ev. Gemeindehaus AA
URL;VALUE=URI:https://eja-aalen.de/medien/kalender/icalrepeat.detail/2020/12/13/738/-/zag
 g-jugendgottesdienst-ev-gemeindehaus-aa?tmpl=component
DESCRIPTION: Dieser Event wurde importiert von: https://eja-aalen.de/medien/kalender/ic
 alrepeat.detail/2020/12/13/738/-/zagg-jugendgottesdienst-ev-gemeindehaus-aa
 ?tmpl=component
X-ALT-DESC;FMTTYPE=text/html: <a href="https://eja-aalen.de/medien/kalender/icalrepeat.detail/2020/12/13
 /738/-/zagg-jugendgottesdienst-ev-gemeindehaus-aa?tmpl=component">Dieser Ev
 ent wurde importiert von: https://eja-aalen.de/medien/kalender/icalrepeat.d
 etail/2020/12/13/738/-/zagg-jugendgottesdienst-ev-gemeindehaus-aa?tmpl=comp
 onent</a>DTSTAMP:20260425T141814
DTSTART:20201213T180000
SEQUENCE:0
TRANSP:OPAQUE
END:VEVENT
END:VCALENDAR