BEGIN:VCALENDAR
VERSION:2.0
PRODID:-//jEvents 2.0 for Joomla//EN
CALSCALE:GREGORIAN
METHOD:PUBLISH
BEGIN:VEVENT
UID:bff7c25c07d6233ea5ca6d62709e88f7
CATEGORIES:Jugendgottesdienste
CREATED:20201030T140317
SUMMARY:ZAGG-Jugendgottesdienst - Ev. Gemeindehaus AA
URL;VALUE=URI:https://eja-aalen.de/medien/kalender/icalrepeat.detail/2021/02/06/739/-/zag
 g-jugendgottesdienst-ev-gemeindehaus-aa?tmpl=component
DESCRIPTION: <a href="https://eja-aalen.de/medien/kalender/icalrepeat.detail/2021/02/06
 /739/-/zagg-jugendgottesdienst-ev-gemeindehaus-aa?tmpl=component">Dieser Ev
 ent wurde importiert von: https://eja-aalen.de/medien/kalender/icalrepeat.d
 etail/2021/02/06/739/-/zagg-jugendgottesdienst-ev-gemeindehaus-aa?tmpl=comp
 onent</a>DTSTAMP:20260423T014934
DTSTART:20210206T180000
SEQUENCE:0
TRANSP:OPAQUE
END:VEVENT
END:VCALENDAR