BEGIN:VCALENDAR
VERSION:2.0
PRODID:-//jEvents 2.0 for Joomla//EN
CALSCALE:GREGORIAN
METHOD:PUBLISH
BEGIN:VEVENT
UID:cc300d39b9b64603b890fd670fe0d6ce
CATEGORIES:Freizeiten
CREATED:20201030T140729
SUMMARY:FTH-Vorbereitungstreffen - Leinroden
URL;VALUE=URI:https://eja-aalen.de/medien/kalender/icalrepeat.detail/2021/07/17/740/-/fth
 -vorbereitungstreffen-leinroden?tmpl=component
DESCRIPTION: <a href="https://eja-aalen.de/medien/kalender/icalrepeat.detail/2021/07/17
 /740/-/fth-vorbereitungstreffen-leinroden?tmpl=component">Dieser Event wurd
 e importiert von: https://eja-aalen.de/medien/kalender/icalrepeat.detail/20
 21/07/17/740/-/fth-vorbereitungstreffen-leinroden?tmpl=component</a>DTSTAMP:20260423T042222
DTSTART;VALUE=DATE:20210717
DTEND;VALUE=DATE:20210718
SEQUENCE:0
TRANSP:OPAQUE
END:VEVENT
END:VCALENDAR