BEGIN:VCALENDAR
VERSION:2.0
PRODID:-//jEvents 2.0 for Joomla//EN
CALSCALE:GREGORIAN
METHOD:PUBLISH
BEGIN:VEVENT
UID:d00a779499f27566d7301d8a88c91b7e
CATEGORIES:Freizeiten
CREATED:20210121T180552
SUMMARY:LKB 2021
LOCATION:Trochtelfingen
URL;VALUE=URI:https://eja-aalen.de/medien/kalender/icalrepeat.detail/2021/08/30/759/-/lkb
 -2021?tmpl=component
DESCRIPTION: Dieser Event wurde importiert von: https://eja-aalen.de/medien/kalender/ic
 alrepeat.detail/2021/08/30/759/-/lkb-2021?tmpl=component
X-ALT-DESC;FMTTYPE=text/html: <a href="https://eja-aalen.de/medien/kalender/icalrepeat.detail/2021/08/30
 /759/-/lkb-2021?tmpl=component">Dieser Event wurde importiert von: https://
 eja-aalen.de/medien/kalender/icalrepeat.detail/2021/08/30/759/-/lkb-2021?tm
 pl=component</a>CONTACT:Diese E-Mail-Adresse ist vor Spambots geschützt! Zur Anzeige muss JavaScript eingeschaltet sein!
				document.getElementById('cloakbe81e95ed822ef4c2f905098f6618767').innerHTML = '';
				var prefix = '&#109;a' + 'i&#108;' + '&#116;o';
				var path = 'hr' + 'ef' + '=';
				var addybe81e95ed822ef4c2f905098f6618767 = 'lkb' + '&#64;';
				addybe81e95ed822ef4c2f905098f6618767 = addybe81e95ed822ef4c2f905098f6618767 + '&#101;j&#97;-&#97;&#97;l&#101;n' + '&#46;' + 'd&#101;';
				var addy_textbe81e95ed822ef4c2f905098f6618767 = 'lkb' + '&#64;' + '&#101;j&#97;-&#97;&#97;l&#101;n' + '&#46;' + 'd&#101;';document.getElementById('cloakbe81e95ed822ef4c2f905098f6618767').innerHTML += '<a ' + path + '\'' + prefix + ':' + addybe81e95ed822ef4c2f905098f6618767 + '\'>'+addy_textbe81e95ed822ef4c2f905098f6618767+'';
		
DTSTAMP:20260420T174954
DTSTART;VALUE=DATE:20210830
DTEND;VALUE=DATE:20210905
SEQUENCE:0
TRANSP:OPAQUE
END:VEVENT
END:VCALENDAR